BEGIN:VCALENDAR
VERSION:2.0
PRODID:-//Fotostudio Markelo - ECPv6.15.20//NONSGML v1.0//EN
CALSCALE:GREGORIAN
METHOD:PUBLISH
X-WR-CALNAME:Fotostudio Markelo
X-ORIGINAL-URL:https://www.fotostudiomarkelo.nl
X-WR-CALDESC:Evenementen voor Fotostudio Markelo
REFRESH-INTERVAL;VALUE=DURATION:PT1H
X-Robots-Tag:noindex
X-PUBLISHED-TTL:PT1H
BEGIN:VTIMEZONE
TZID:Europe/Amsterdam
BEGIN:DAYLIGHT
TZOFFSETFROM:+0100
TZOFFSETTO:+0200
TZNAME:CEST
DTSTART:20250330T010000
END:DAYLIGHT
BEGIN:STANDARD
TZOFFSETFROM:+0200
TZOFFSETTO:+0100
TZNAME:CET
DTSTART:20251026T010000
END:STANDARD
BEGIN:DAYLIGHT
TZOFFSETFROM:+0100
TZOFFSETTO:+0200
TZNAME:CEST
DTSTART:20260329T010000
END:DAYLIGHT
BEGIN:STANDARD
TZOFFSETFROM:+0200
TZOFFSETTO:+0100
TZNAME:CET
DTSTART:20261025T010000
END:STANDARD
BEGIN:DAYLIGHT
TZOFFSETFROM:+0100
TZOFFSETTO:+0200
TZNAME:CEST
DTSTART:20270328T010000
END:DAYLIGHT
BEGIN:STANDARD
TZOFFSETFROM:+0200
TZOFFSETTO:+0100
TZNAME:CET
DTSTART:20271031T010000
END:STANDARD
END:VTIMEZONE
BEGIN:VEVENT
DTSTART;TZID=Europe/Amsterdam:20260318T070000
DTEND;TZID=Europe/Amsterdam:20260318T210000
DTSTAMP:20260423T004447
CREATED:20260113T140734Z
LAST-MODIFIED:20260113T140734Z
UID:55962-1773817200-1773867600@www.fotostudiomarkelo.nl
SUMMARY:Gemeenteraadsverkiezingen HvT - stembureau
DESCRIPTION:Op woensdag 18 maart 2026 is Fotostudio Markelo ingericht als stembureau voor de gemeenteraadsverkiezingen van de gemeente Hof van Twente. De studio is deze dag in gebruik voor de verkiezingen en daardoor niet beschikbaar voor fotoshoots of andere afspraken.
URL:https://www.fotostudiomarkelo.nl/event/gemeenteraadsverkiezingen-hvt-stembureau/
CATEGORIES:Actie
ATTACH;FMTTYPE=image/png:/inhoud/uploads/2026/01/open-zaterdag-5-april-2025.png
END:VEVENT
BEGIN:VEVENT
DTSTART;TZID=Europe/Amsterdam:20260327T193000
DTEND;TZID=Europe/Amsterdam:20260327T213000
DTSTAMP:20260423T004447
CREATED:20260113T144513Z
LAST-MODIFIED:20260113T144513Z
UID:55968-1774639800-1774647000@www.fotostudiomarkelo.nl
SUMMARY:The Passion Markelo
DESCRIPTION:The Passion Markelo is een muzikale vertelling\, theater en toneel van de laatste dagen van Jezus Christus\, gebaseerd op het paasverhaal (kruisiging) uit de bijbel. Het verhaal zal in de hedendaagse tijd worden verteld\, gespeeld en uitgebeeld ondersteund met (wereldwijde) bekende liedjes. Door de combinatie van vertellers\, live zang\, toneel en muziek wordt het eeuwenoude verhaal op een toegankelijk manier naar deze tijd gebracht. Het paasverhaal gaat over liefde\, vergeven\, vertrouwen en verraad. Het thema Noaberschap: Verraad of Liefde? Zal de rode draad zijn. De vraag is natuurlijk\, zijn we allen zulke goede noabers\, is noaberschap waar we voor staan\, vind er verraad plaats\, kunnen we elkaar vergeven en vertrouwen? Onze saamhorigheid is groot\, dat laten we met deze muzikale vertelling zien. Vele vrijwilligers\, zangers\, zangeressen\, koren\, muzikanten\, toneelspelers van jong tot oud tonen dat noaberschap in ons DNA zit. Ook krijgt een maatschappelijke bijdrage een rol\, waarin de jongeren van Markelo een speciale rol gaan vervullen. \nAanvang : 19:30 uur.\nLocatie : Kaasplein en Martinuskerk te Markelo
URL:https://www.fotostudiomarkelo.nl/event/the-passion-markelo/
CATEGORIES:Actie
ATTACH;FMTTYPE=image/png:/inhoud/uploads/2026/01/the-passion.png
END:VEVENT
BEGIN:VEVENT
DTSTART;TZID=Europe/Amsterdam:20260328T193000
DTEND;TZID=Europe/Amsterdam:20260328T213000
DTSTAMP:20260423T004447
CREATED:20260113T144513Z
LAST-MODIFIED:20260113T144645Z
UID:55970-1774726200-1774733400@www.fotostudiomarkelo.nl
SUMMARY:The Passion Markelo
DESCRIPTION:The Passion Markelo is een muzikale vertelling\, theater en toneel van de laatste dagen van Jezus Christus\, gebaseerd op het paasverhaal (kruisiging) uit de bijbel. Het verhaal zal in de hedendaagse tijd worden verteld\, gespeeld en uitgebeeld ondersteund met (wereldwijde) bekende liedjes. Door de combinatie van vertellers\, live zang\, toneel en muziek wordt het eeuwenoude verhaal op een toegankelijk manier naar deze tijd gebracht. Het paasverhaal gaat over liefde\, vergeven\, vertrouwen en verraad. Het thema Noaberschap: Verraad of Liefde? Zal de rode draad zijn. De vraag is natuurlijk\, zijn we allen zulke goede noabers\, is noaberschap waar we voor staan\, vind er verraad plaats\, kunnen we elkaar vergeven en vertrouwen? Onze saamhorigheid is groot\, dat laten we met deze muzikale vertelling zien. Vele vrijwilligers\, zangers\, zangeressen\, koren\, muzikanten\, toneelspelers van jong tot oud tonen dat noaberschap in ons DNA zit. Ook krijgt een maatschappelijke bijdrage een rol\, waarin de jongeren van Markelo een speciale rol gaan vervullen. \nLocatie : Kaasplein en Martinuskerk te Markelo
URL:https://www.fotostudiomarkelo.nl/event/the-passion-markelo-2/
CATEGORIES:Actie
ATTACH;FMTTYPE=image/png:/inhoud/uploads/2026/01/the-passion.png
END:VEVENT
END:VCALENDAR